BEGIN:VCALENDAR
VERSION:2.0
PRODID:-//Skiverein Schönheide e.V. - ECPv6.15.20//NONSGML v1.0//EN
CALSCALE:GREGORIAN
METHOD:PUBLISH
X-WR-CALNAME:Skiverein Schönheide e.V.
X-ORIGINAL-URL:https://skiverein-schoenheide.de
X-WR-CALDESC:Veranstaltungen für Skiverein Schönheide e.V.
REFRESH-INTERVAL;VALUE=DURATION:PT1H
X-Robots-Tag:noindex
X-PUBLISHED-TTL:PT1H
BEGIN:VTIMEZONE
TZID:Europe/Berlin
BEGIN:DAYLIGHT
TZOFFSETFROM:+0100
TZOFFSETTO:+0200
TZNAME:CEST
DTSTART:20210328T010000
END:DAYLIGHT
BEGIN:STANDARD
TZOFFSETFROM:+0200
TZOFFSETTO:+0100
TZNAME:CET
DTSTART:20211031T010000
END:STANDARD
BEGIN:DAYLIGHT
TZOFFSETFROM:+0100
TZOFFSETTO:+0200
TZNAME:CEST
DTSTART:20220327T010000
END:DAYLIGHT
BEGIN:STANDARD
TZOFFSETFROM:+0200
TZOFFSETTO:+0100
TZNAME:CET
DTSTART:20221030T010000
END:STANDARD
BEGIN:DAYLIGHT
TZOFFSETFROM:+0100
TZOFFSETTO:+0200
TZNAME:CEST
DTSTART:20230326T010000
END:DAYLIGHT
BEGIN:STANDARD
TZOFFSETFROM:+0200
TZOFFSETTO:+0100
TZNAME:CET
DTSTART:20231029T010000
END:STANDARD
END:VTIMEZONE
BEGIN:VEVENT
DTSTART;VALUE=DATE:20220716
DTEND;VALUE=DATE:20220717
DTSTAMP:20260425T151304
CREATED:20220223T155218Z
LAST-MODIFIED:20220527T120909Z
UID:560-1657929600-1658015999@skiverein-schoenheide.de
SUMMARY:Schönheider Stauseetriathlon
DESCRIPTION:🥳 30 Jahre Stauseetriathlon 🎉 \nDer Skiverein Schönheide e.V. lädt zum Cross-Triathlon mit anspruchsvoller Wettkampfstrecke im Erzgebirge ein. \nStrecken\n \n\n\n\nJunior Trophy (Jahrgang 2016- 2017)\nDuathlon (Radfahren \, Schwimmen)\nAnmeldung vor Ort\nJunior Trophy (Jahrgang 2014 – 2015)\n75 m  🏊- 1000 m 🚴- 750 m 🏃\nAnmeldung vor Ort\nEinführungslauf (AK 10 – 15)\n[75 m 🏊- 2\,8 km 🚴- 750m 🏃] x2\nHauptlauf (Ab AK 16)\n[150 m  🏊- 5\,6 km 🚴- 1.5 km 🏃] x 2\n\n\n\nZur Wettkampfseite 🔗 \nAusschreibung Einführungslauf / Hauptlauf 📄 \nAusschreibung Junior Trophy 📄 \nAnmeldung Einführungslauf / Hauptlauf 🚀 \n 
URL:https://skiverein-schoenheide.de/event/30-jahre-schoenheider-stauseetriathlon-cross
LOCATION:Waldstadion\, Schönheide\, Sachsen\, 08304\, Deutschland
CATEGORIES:Sommer,Triathlon
END:VEVENT
END:VCALENDAR